BEGIN:VCALENDAR
VERSION:2.0
PRODID:-//Zalew Zimna Woda Łuków - ECPv6.7.0//NONSGML v1.0//EN
CALSCALE:GREGORIAN
METHOD:PUBLISH
X-ORIGINAL-URL:http://zimnawoda.lukow.pl
X-WR-CALDESC:Events for Zalew Zimna Woda Łuków
REFRESH-INTERVAL;VALUE=DURATION:PT1H
X-Robots-Tag:noindex
X-PUBLISHED-TTL:PT1H
BEGIN:VTIMEZONE
TZID:Europe/Warsaw
BEGIN:DAYLIGHT
TZOFFSETFROM:+0100
TZOFFSETTO:+0200
TZNAME:CEST
DTSTART:20250330T010000
END:DAYLIGHT
BEGIN:STANDARD
TZOFFSETFROM:+0200
TZOFFSETTO:+0100
TZNAME:CET
DTSTART:20251026T010000
END:STANDARD
END:VTIMEZONE
BEGIN:VEVENT
DTSTART;VALUE=DATE:20250601
DTEND;VALUE=DATE:20250602
DTSTAMP:20260420T020244
CREATED:20250227T124313Z
LAST-MODIFIED:20250227T124313Z
UID:4442-1748736000-1748822399@zimnawoda.lukow.pl
SUMMARY:Dzień dziecka z wędką
DESCRIPTION:
URL:http://zimnawoda.lukow.pl/kalendarz/dzien-dziecka-z-wedka-2/
END:VEVENT
BEGIN:VEVENT
DTSTART;VALUE=DATE:20250607
DTEND;VALUE=DATE:20250609
DTSTAMP:20260420T020244
CREATED:20250227T124454Z
LAST-MODIFIED:20250227T124454Z
UID:4446-1749254400-1749427199@zimnawoda.lukow.pl
SUMMARY:Nocny Puchar Prezesa Koła PZW Łuków Miasto
DESCRIPTION:
URL:http://zimnawoda.lukow.pl/kalendarz/nocny-puchar-prezesa-kola-pzw-lukow-miasto/
END:VEVENT
BEGIN:VEVENT
DTSTART;VALUE=DATE:20250608
DTEND;VALUE=DATE:20250609
DTSTAMP:20260420T020244
CREATED:20250508T063503Z
LAST-MODIFIED:20250508T063508Z
UID:4492-1749340800-1749427199@zimnawoda.lukow.pl
SUMMARY:Cool Water vol.2
DESCRIPTION:
URL:http://zimnawoda.lukow.pl/kalendarz/cool-water-vol-2/
END:VEVENT
BEGIN:VEVENT
DTSTART;TZID=Europe/Warsaw:20250614T080000
DTEND;TZID=Europe/Warsaw:20250614T080000
DTSTAMP:20260420T020244
CREATED:20250326T091302Z
LAST-MODIFIED:20250326T091424Z
UID:4472-1749888000-1749888000@zimnawoda.lukow.pl
SUMMARY:Piknik integracyjny - OVERIS
DESCRIPTION:
URL:http://zimnawoda.lukow.pl/kalendarz/piknik-integracyjny-overis-2/
END:VEVENT
BEGIN:VEVENT
DTSTART;VALUE=DATE:20250615
DTEND;VALUE=DATE:20250616
DTSTAMP:20260420T020244
CREATED:20250604T071732Z
LAST-MODIFIED:20250604T071737Z
UID:4496-1749945600-1750031999@zimnawoda.lukow.pl
SUMMARY:Zawody Wędkarskie Puchar Prezesa Koła PZW Łuków
DESCRIPTION:
URL:http://zimnawoda.lukow.pl/kalendarz/zawody-wedkarskie-puchar-prezesa-kola-pzw-lukow/
END:VEVENT
BEGIN:VEVENT
DTSTART;TZID=Europe/Warsaw:20250621T080000
DTEND;TZID=Europe/Warsaw:20250621T170000
DTSTAMP:20260420T020244
CREATED:20250103T075715Z
LAST-MODIFIED:20250103T075715Z
UID:4428-1750492800-1750525200@zimnawoda.lukow.pl
SUMMARY:2. Łukowski Piknik Spółdzielczy
DESCRIPTION:
URL:http://zimnawoda.lukow.pl/kalendarz/2-lukowski-piknik-spoldzielczy/
END:VEVENT
END:VCALENDAR