BEGIN:VCALENDAR
VERSION:2.0
PRODID:-//Zalew Zimna Woda Łuków - ECPv6.7.0//NONSGML v1.0//EN
CALSCALE:GREGORIAN
METHOD:PUBLISH
X-ORIGINAL-URL:http://zimnawoda.lukow.pl
X-WR-CALDESC:Events for Zalew Zimna Woda Łuków
REFRESH-INTERVAL;VALUE=DURATION:PT1H
X-Robots-Tag:noindex
X-PUBLISHED-TTL:PT1H
BEGIN:VTIMEZONE
TZID:Europe/Warsaw
BEGIN:DAYLIGHT
TZOFFSETFROM:+0100
TZOFFSETTO:+0200
TZNAME:CEST
DTSTART:20230326T010000
END:DAYLIGHT
BEGIN:STANDARD
TZOFFSETFROM:+0200
TZOFFSETTO:+0100
TZNAME:CET
DTSTART:20231029T010000
END:STANDARD
END:VTIMEZONE
BEGIN:VEVENT
DTSTART;TZID=Europe/Warsaw:20230802T170000
DTEND;TZID=Europe/Warsaw:20230802T180000
DTSTAMP:20260420T092813
CREATED:20230623T071225Z
LAST-MODIFIED:20230623T071402Z
UID:3853-1690995600-1690999200@zimnawoda.lukow.pl
SUMMARY:Zajęcia taneczne
DESCRIPTION:
URL:http://zimnawoda.lukow.pl/kalendarz/zajecia-taneczne-4/
LOCATION:Zalew Zimna Woda
ATTACH;FMTTYPE=image/jpeg:http://zimnawoda.lukow.pl/wp-content/uploads/2023/06/taneczne1.jpg
END:VEVENT
BEGIN:VEVENT
DTSTART;TZID=Europe/Warsaw:20230806T110000
DTEND;TZID=Europe/Warsaw:20230806T120000
DTSTAMP:20260420T092813
CREATED:20230623T072400Z
LAST-MODIFIED:20230623T072400Z
UID:3872-1691319600-1691323200@zimnawoda.lukow.pl
SUMMARY:Zajęcia fitness
DESCRIPTION:
URL:http://zimnawoda.lukow.pl/kalendarz/zajecia-fitness-5/
LOCATION:Zalew Zimna Woda
ATTACH;FMTTYPE=image/jpeg:http://zimnawoda.lukow.pl/wp-content/uploads/2023/06/trening1.jpg
END:VEVENT
BEGIN:VEVENT
DTSTART;TZID=Europe/Warsaw:20230809T170000
DTEND;TZID=Europe/Warsaw:20230809T180000
DTSTAMP:20260420T092813
CREATED:20230623T071434Z
LAST-MODIFIED:20230623T071434Z
UID:3855-1691600400-1691604000@zimnawoda.lukow.pl
SUMMARY:Zajęcia taneczne
DESCRIPTION:
URL:http://zimnawoda.lukow.pl/kalendarz/zajecia-taneczne-5/
LOCATION:Zalew Zimna Woda
ATTACH;FMTTYPE=image/jpeg:http://zimnawoda.lukow.pl/wp-content/uploads/2023/06/taneczne1.jpg
END:VEVENT
BEGIN:VEVENT
DTSTART;TZID=Europe/Warsaw:20230813T110000
DTEND;TZID=Europe/Warsaw:20230813T120000
DTSTAMP:20260420T092813
CREATED:20230623T072600Z
LAST-MODIFIED:20230623T072600Z
UID:3874-1691924400-1691928000@zimnawoda.lukow.pl
SUMMARY:Zajęcia fitness
DESCRIPTION:
URL:http://zimnawoda.lukow.pl/kalendarz/zajecia-fitness-6/
LOCATION:Zalew Zimna Woda
ATTACH;FMTTYPE=image/jpeg:http://zimnawoda.lukow.pl/wp-content/uploads/2023/06/trening1.jpg
END:VEVENT
BEGIN:VEVENT
DTSTART;TZID=Europe/Warsaw:20230816T170000
DTEND;TZID=Europe/Warsaw:20230816T180000
DTSTAMP:20260420T092813
CREATED:20230623T071558Z
LAST-MODIFIED:20230623T071558Z
UID:3857-1692205200-1692208800@zimnawoda.lukow.pl
SUMMARY:Zajęcia taneczne
DESCRIPTION:
URL:http://zimnawoda.lukow.pl/kalendarz/zajecia-taneczne-6/
LOCATION:Zalew Zimna Woda
ATTACH;FMTTYPE=image/jpeg:http://zimnawoda.lukow.pl/wp-content/uploads/2023/06/taneczne1.jpg
END:VEVENT
BEGIN:VEVENT
DTSTART;TZID=Europe/Warsaw:20230819T090000
DTEND;TZID=Europe/Warsaw:20230819T170000
DTSTAMP:20260420T092813
CREATED:20230726T140155Z
LAST-MODIFIED:20230726T140155Z
UID:3944-1692435600-1692464400@zimnawoda.lukow.pl
SUMMARY:2- dniowy TURNIEJ SIATKÓWKI PLAŻOWEJ
DESCRIPTION:
URL:http://zimnawoda.lukow.pl/kalendarz/2-dniowy-turniej-siatkowki-plazowej/
LOCATION:Zalew Zimna Woda
ATTACH;FMTTYPE=image/png:http://zimnawoda.lukow.pl/wp-content/uploads/2023/07/siatkowka_sierpien.png
END:VEVENT
BEGIN:VEVENT
DTSTART;TZID=Europe/Warsaw:20230820T110000
DTEND;TZID=Europe/Warsaw:20230820T120000
DTSTAMP:20260420T092813
CREATED:20230623T072948Z
LAST-MODIFIED:20230623T072948Z
UID:3876-1692529200-1692532800@zimnawoda.lukow.pl
SUMMARY:Zajęcia fitness
DESCRIPTION:
URL:http://zimnawoda.lukow.pl/kalendarz/zajecia-fitness-7/
LOCATION:Zalew Zimna Woda
ATTACH;FMTTYPE=image/jpeg:http://zimnawoda.lukow.pl/wp-content/uploads/2023/06/trening1.jpg
END:VEVENT
BEGIN:VEVENT
DTSTART;TZID=Europe/Warsaw:20230823T170000
DTEND;TZID=Europe/Warsaw:20230823T180000
DTSTAMP:20260420T092813
CREATED:20230623T071627Z
LAST-MODIFIED:20230623T071627Z
UID:3859-1692810000-1692813600@zimnawoda.lukow.pl
SUMMARY:Zajęcia taneczne
DESCRIPTION:
URL:http://zimnawoda.lukow.pl/kalendarz/zajecia-taneczne-7/
LOCATION:Zalew Zimna Woda
ATTACH;FMTTYPE=image/jpeg:http://zimnawoda.lukow.pl/wp-content/uploads/2023/06/taneczne1.jpg
END:VEVENT
BEGIN:VEVENT
DTSTART;TZID=Europe/Warsaw:20230827T080000
DTEND;TZID=Europe/Warsaw:20230827T170000
DTSTAMP:20260420T092813
CREATED:20230825T135813Z
LAST-MODIFIED:20230825T135813Z
UID:3978-1693123200-1693155600@zimnawoda.lukow.pl
SUMMARY:Motożyła 2023
DESCRIPTION:
URL:http://zimnawoda.lukow.pl/kalendarz/motozyla-2023/
LOCATION:Zalew Zimna Woda
ATTACH;FMTTYPE=image/jpeg:http://zimnawoda.lukow.pl/wp-content/uploads/2023/08/motozyla.jpeg
END:VEVENT
BEGIN:VEVENT
DTSTART;TZID=Europe/Warsaw:20230827T110000
DTEND;TZID=Europe/Warsaw:20230827T120000
DTSTAMP:20260420T092813
CREATED:20230623T073028Z
LAST-MODIFIED:20230623T073028Z
UID:3878-1693134000-1693137600@zimnawoda.lukow.pl
SUMMARY:Zajęcia fitness
DESCRIPTION:
URL:http://zimnawoda.lukow.pl/kalendarz/zajecia-fitness-8/
LOCATION:Zalew Zimna Woda
ATTACH;FMTTYPE=image/jpeg:http://zimnawoda.lukow.pl/wp-content/uploads/2023/06/trening1.jpg
END:VEVENT
BEGIN:VEVENT
DTSTART;TZID=Europe/Warsaw:20230830T170000
DTEND;TZID=Europe/Warsaw:20230830T180000
DTSTAMP:20260420T092813
CREATED:20230623T071702Z
LAST-MODIFIED:20230623T071702Z
UID:3861-1693414800-1693418400@zimnawoda.lukow.pl
SUMMARY:Zajęcia taneczne
DESCRIPTION:
URL:http://zimnawoda.lukow.pl/kalendarz/zajecia-taneczne-8/
LOCATION:Zalew Zimna Woda
ATTACH;FMTTYPE=image/jpeg:http://zimnawoda.lukow.pl/wp-content/uploads/2023/06/taneczne1.jpg
END:VEVENT
END:VCALENDAR