BEGIN:VCALENDAR
VERSION:2.0
PRODID:-//Zalew Zimna Woda Łuków - ECPv6.7.0//NONSGML v1.0//EN
CALSCALE:GREGORIAN
METHOD:PUBLISH
X-WR-CALNAME:Zalew Zimna Woda Łuków
X-ORIGINAL-URL:http://zimnawoda.lukow.pl
X-WR-CALDESC:Events for Zalew Zimna Woda Łuków
REFRESH-INTERVAL;VALUE=DURATION:PT1H
X-Robots-Tag:noindex
X-PUBLISHED-TTL:PT1H
BEGIN:VTIMEZONE
TZID:Europe/Warsaw
BEGIN:DAYLIGHT
TZOFFSETFROM:+0100
TZOFFSETTO:+0200
TZNAME:CEST
DTSTART:20230326T010000
END:DAYLIGHT
BEGIN:STANDARD
TZOFFSETFROM:+0200
TZOFFSETTO:+0100
TZNAME:CET
DTSTART:20231029T010000
END:STANDARD
END:VTIMEZONE
BEGIN:VEVENT
DTSTART;TZID=Europe/Warsaw:20230701T090000
DTEND;TZID=Europe/Warsaw:20230701T150000
DTSTAMP:20260420T114233
CREATED:20230625T120206Z
LAST-MODIFIED:20230625T120206Z
UID:3887-1688202000-1688223600@zimnawoda.lukow.pl
SUMMARY:Turniej Piłki Siatkowej
DESCRIPTION:
URL:http://zimnawoda.lukow.pl/kalendarz/turniej-pilki-siatkowej/
LOCATION:Zalew Zimna Woda
ATTACH;FMTTYPE=image/png:http://zimnawoda.lukow.pl/wp-content/uploads/2023/06/siatkowa23.png
END:VEVENT
BEGIN:VEVENT
DTSTART;TZID=Europe/Warsaw:20230705T170000
DTEND;TZID=Europe/Warsaw:20230705T180000
DTSTAMP:20260420T114233
CREATED:20230623T070853Z
LAST-MODIFIED:20230623T071302Z
UID:3846-1688576400-1688580000@zimnawoda.lukow.pl
SUMMARY:Zajęcia taneczne
DESCRIPTION:
URL:http://zimnawoda.lukow.pl/kalendarz/zajecia-taneczne/
LOCATION:Zalew Zimna Woda
ATTACH;FMTTYPE=image/jpeg:http://zimnawoda.lukow.pl/wp-content/uploads/2023/06/taneczne1.jpg
END:VEVENT
BEGIN:VEVENT
DTSTART;TZID=Europe/Warsaw:20230706T203000
DTEND;TZID=Europe/Warsaw:20230706T220000
DTSTAMP:20260420T114233
CREATED:20230706T093730Z
LAST-MODIFIED:20230706T093730Z
UID:3905-1688675400-1688680800@zimnawoda.lukow.pl
SUMMARY:Letnie Kino pod chmurką
DESCRIPTION:
URL:http://zimnawoda.lukow.pl/kalendarz/letnie-kino-pod-chmurka/
ATTACH;FMTTYPE=image/jpeg:http://zimnawoda.lukow.pl/wp-content/uploads/2023/07/kino_letnie.jpg
END:VEVENT
BEGIN:VEVENT
DTSTART;TZID=Europe/Warsaw:20230709T110000
DTEND;TZID=Europe/Warsaw:20230709T120000
DTSTAMP:20260420T114233
CREATED:20230623T072104Z
LAST-MODIFIED:20230623T072104Z
UID:3863-1688900400-1688904000@zimnawoda.lukow.pl
SUMMARY:Zajęcia fitness
DESCRIPTION:
URL:http://zimnawoda.lukow.pl/kalendarz/zajecia-fitness/
LOCATION:Zalew Zimna Woda
ATTACH;FMTTYPE=image/jpeg:http://zimnawoda.lukow.pl/wp-content/uploads/2023/06/trening1.jpg
END:VEVENT
BEGIN:VEVENT
DTSTART;TZID=Europe/Warsaw:20230713T203000
DTEND;TZID=Europe/Warsaw:20230713T220000
DTSTAMP:20260420T114233
CREATED:20230706T093837Z
LAST-MODIFIED:20230706T093915Z
UID:3908-1689280200-1689285600@zimnawoda.lukow.pl
SUMMARY:Letnie Kino pod chmurką
DESCRIPTION:
URL:http://zimnawoda.lukow.pl/kalendarz/letnie-kino-pod-chmurka-copy/
ATTACH;FMTTYPE=image/jpeg:http://zimnawoda.lukow.pl/wp-content/uploads/2023/07/kino_letnie.jpg
END:VEVENT
BEGIN:VEVENT
DTSTART;TZID=Europe/Warsaw:20230716T110000
DTEND;TZID=Europe/Warsaw:20230716T120000
DTSTAMP:20260420T114233
CREATED:20230623T072250Z
LAST-MODIFIED:20230623T072250Z
UID:3868-1689505200-1689508800@zimnawoda.lukow.pl
SUMMARY:Zajęcia fitness
DESCRIPTION:
URL:http://zimnawoda.lukow.pl/kalendarz/zajecia-fitness-3/
LOCATION:Zalew Zimna Woda
ATTACH;FMTTYPE=image/jpeg:http://zimnawoda.lukow.pl/wp-content/uploads/2023/06/trening1.jpg
END:VEVENT
BEGIN:VEVENT
DTSTART;TZID=Europe/Warsaw:20230719T170000
DTEND;TZID=Europe/Warsaw:20230719T180000
DTSTAMP:20260420T114233
CREATED:20230623T070945Z
LAST-MODIFIED:20230623T071321Z
UID:3849-1689786000-1689789600@zimnawoda.lukow.pl
SUMMARY:Zajęcia taneczne
DESCRIPTION:
URL:http://zimnawoda.lukow.pl/kalendarz/zajecia-taneczne-2/
LOCATION:Zalew Zimna Woda
ATTACH;FMTTYPE=image/jpeg:http://zimnawoda.lukow.pl/wp-content/uploads/2023/06/taneczne1.jpg
END:VEVENT
BEGIN:VEVENT
DTSTART;TZID=Europe/Warsaw:20230720T203000
DTEND;TZID=Europe/Warsaw:20230720T220000
DTSTAMP:20260420T114233
CREATED:20230706T094007Z
LAST-MODIFIED:20230706T094007Z
UID:3911-1689885000-1689890400@zimnawoda.lukow.pl
SUMMARY:Letnie Kino pod chmurką
DESCRIPTION:
URL:http://zimnawoda.lukow.pl/kalendarz/letnie-kino-pod-chmurka-2/
ATTACH;FMTTYPE=image/jpeg:http://zimnawoda.lukow.pl/wp-content/uploads/2023/07/kino_letnie.jpg
END:VEVENT
BEGIN:VEVENT
DTSTART;TZID=Europe/Warsaw:20230723T110000
DTEND;TZID=Europe/Warsaw:20230723T120000
DTSTAMP:20260420T114233
CREATED:20230623T072149Z
LAST-MODIFIED:20230623T072212Z
UID:3866-1690110000-1690113600@zimnawoda.lukow.pl
SUMMARY:Zajęcia fitness
DESCRIPTION:
URL:http://zimnawoda.lukow.pl/kalendarz/zajecia-fitness-2/
LOCATION:Zalew Zimna Woda
ATTACH;FMTTYPE=image/jpeg:http://zimnawoda.lukow.pl/wp-content/uploads/2023/06/trening1.jpg
END:VEVENT
BEGIN:VEVENT
DTSTART;TZID=Europe/Warsaw:20230726T170000
DTEND;TZID=Europe/Warsaw:20230726T180000
DTSTAMP:20260420T114233
CREATED:20230623T071129Z
LAST-MODIFIED:20230623T071343Z
UID:3851-1690390800-1690394400@zimnawoda.lukow.pl
SUMMARY:Zajęcia taneczne
DESCRIPTION:
URL:http://zimnawoda.lukow.pl/kalendarz/zajecia-taneczne-3/
LOCATION:Zalew Zimna Woda
ATTACH;FMTTYPE=image/jpeg:http://zimnawoda.lukow.pl/wp-content/uploads/2023/06/taneczne1.jpg
END:VEVENT
BEGIN:VEVENT
DTSTART;TZID=Europe/Warsaw:20230727T203000
DTEND;TZID=Europe/Warsaw:20230727T220000
DTSTAMP:20260420T114233
CREATED:20230706T094049Z
LAST-MODIFIED:20230706T094049Z
UID:3913-1690489800-1690495200@zimnawoda.lukow.pl
SUMMARY:Letnie Kino pod chmurką
DESCRIPTION:
URL:http://zimnawoda.lukow.pl/kalendarz/letnie-kino-pod-chmurka-3/
ATTACH;FMTTYPE=image/jpeg:http://zimnawoda.lukow.pl/wp-content/uploads/2023/07/kino_letnie.jpg
END:VEVENT
BEGIN:VEVENT
DTSTART;TZID=Europe/Warsaw:20230730T110000
DTEND;TZID=Europe/Warsaw:20230730T120000
DTSTAMP:20260420T114233
CREATED:20230623T072322Z
LAST-MODIFIED:20230623T072322Z
UID:3870-1690714800-1690718400@zimnawoda.lukow.pl
SUMMARY:Zajęcia fitness
DESCRIPTION:
URL:http://zimnawoda.lukow.pl/kalendarz/zajecia-fitness-4/
LOCATION:Zalew Zimna Woda
ATTACH;FMTTYPE=image/jpeg:http://zimnawoda.lukow.pl/wp-content/uploads/2023/06/trening1.jpg
END:VEVENT
END:VCALENDAR