BEGIN:VCALENDAR
VERSION:2.0
PRODID:-//Zalew Zimna Woda Łuków - ECPv6.7.0//NONSGML v1.0//EN
CALSCALE:GREGORIAN
METHOD:PUBLISH
X-ORIGINAL-URL:http://zimnawoda.lukow.pl
X-WR-CALDESC:Events for Zalew Zimna Woda Łuków
REFRESH-INTERVAL;VALUE=DURATION:PT1H
X-Robots-Tag:noindex
X-PUBLISHED-TTL:PT1H
BEGIN:VTIMEZONE
TZID:Europe/Warsaw
BEGIN:DAYLIGHT
TZOFFSETFROM:+0100
TZOFFSETTO:+0200
TZNAME:CEST
DTSTART:20230326T010000
END:DAYLIGHT
BEGIN:STANDARD
TZOFFSETFROM:+0200
TZOFFSETTO:+0100
TZNAME:CET
DTSTART:20231029T010000
END:STANDARD
END:VTIMEZONE
BEGIN:VEVENT
DTSTART;TZID=Europe/Warsaw:20230504T080000
DTEND;TZID=Europe/Warsaw:20230504T170000
DTSTAMP:20260420T152336
CREATED:20230215T071626Z
LAST-MODIFIED:20230215T071626Z
UID:3757-1683187200-1683219600@zimnawoda.lukow.pl
SUMMARY:Feederowe Mistrzostwa Łukowa
DESCRIPTION:
URL:http://zimnawoda.lukow.pl/kalendarz/feederowe-mistrzostwa-lukowa/
LOCATION:Zalew Zimna Woda
END:VEVENT
BEGIN:VEVENT
DTSTART;TZID=Europe/Warsaw:20230528T050000
DTEND;TZID=Europe/Warsaw:20230528T170000
DTSTAMP:20260420T152336
CREATED:20230215T071755Z
LAST-MODIFIED:20230517T184919Z
UID:3759-1685250000-1685293200@zimnawoda.lukow.pl
SUMMARY:III Puchar Niedźwiedzia
DESCRIPTION:
URL:http://zimnawoda.lukow.pl/kalendarz/iii-puchar-niedzwiedzia/
LOCATION:Zalew Zimna Woda
ATTACH;FMTTYPE=image/jpeg:http://zimnawoda.lukow.pl/wp-content/uploads/2023/05/wedkarze3.jpg
END:VEVENT
END:VCALENDAR