BEGIN:VCALENDAR
VERSION:2.0
PRODID:-//Zalew Zimna Woda Łuków - ECPv6.7.0//NONSGML v1.0//EN
CALSCALE:GREGORIAN
METHOD:PUBLISH
X-ORIGINAL-URL:http://zimnawoda.lukow.pl
X-WR-CALDESC:Events for Zalew Zimna Woda Łuków
REFRESH-INTERVAL;VALUE=DURATION:PT1H
X-Robots-Tag:noindex
X-PUBLISHED-TTL:PT1H
BEGIN:VTIMEZONE
TZID:Europe/Warsaw
BEGIN:DAYLIGHT
TZOFFSETFROM:+0100
TZOFFSETTO:+0200
TZNAME:CEST
DTSTART:20210328T010000
END:DAYLIGHT
BEGIN:STANDARD
TZOFFSETFROM:+0200
TZOFFSETTO:+0100
TZNAME:CET
DTSTART:20211031T010000
END:STANDARD
END:VTIMEZONE
BEGIN:VEVENT
DTSTART;TZID=Europe/Warsaw:20211031T090000
DTEND;TZID=Europe/Warsaw:20211031T100000
DTSTAMP:20260420T130704
CREATED:20211130T112209Z
LAST-MODIFIED:20211130T112209Z
UID:3374-1635670800-1635674400@zimnawoda.lukow.pl
SUMMARY:Morsowanie
DESCRIPTION:
URL:http://zimnawoda.lukow.pl/kalendarz/morsowanie-3/
LOCATION:Zalew Zimna Woda
ATTACH;FMTTYPE=image/jpeg:http://zimnawoda.lukow.pl/wp-content/uploads/2021/11/mors.jpg
END:VEVENT
BEGIN:VEVENT
DTSTART;TZID=Europe/Warsaw:20211024T080000
DTEND;TZID=Europe/Warsaw:20211024T170000
DTSTAMP:20260420T130704
CREATED:20211130T112048Z
LAST-MODIFIED:20211130T112048Z
UID:3372-1635062400-1635094800@zimnawoda.lukow.pl
SUMMARY:Morsowanie
DESCRIPTION:
URL:http://zimnawoda.lukow.pl/kalendarz/morsowanie-2/
LOCATION:Zalew Zimna Woda
ATTACH;FMTTYPE=image/jpeg:http://zimnawoda.lukow.pl/wp-content/uploads/2021/11/mors.jpg
END:VEVENT
BEGIN:VEVENT
DTSTART;TZID=Europe/Warsaw:20211017T080000
DTEND;TZID=Europe/Warsaw:20211017T170000
DTSTAMP:20260420T130704
CREATED:20211130T112315Z
LAST-MODIFIED:20211130T112315Z
UID:3376-1634457600-1634490000@zimnawoda.lukow.pl
SUMMARY:Morsowanie
DESCRIPTION:
URL:http://zimnawoda.lukow.pl/kalendarz/morsowanie-4/
LOCATION:Zalew Zimna Woda
ATTACH;FMTTYPE=image/jpeg:http://zimnawoda.lukow.pl/wp-content/uploads/2021/11/mors.jpg
END:VEVENT
BEGIN:VEVENT
DTSTART;TZID=Europe/Warsaw:20211009T090000
DTEND;TZID=Europe/Warsaw:20211009T100000
DTSTAMP:20260420T130704
CREATED:20211130T111751Z
LAST-MODIFIED:20211130T111751Z
UID:3368-1633770000-1633773600@zimnawoda.lukow.pl
SUMMARY:Morsowanie
DESCRIPTION:
URL:http://zimnawoda.lukow.pl/kalendarz/morsowanie/
LOCATION:Zalew Zimna Woda
ATTACH;FMTTYPE=image/jpeg:http://zimnawoda.lukow.pl/wp-content/uploads/2021/11/mors.jpg
END:VEVENT
BEGIN:VEVENT
DTSTART;TZID=Europe/Warsaw:20210919T080000
DTEND;TZID=Europe/Warsaw:20210919T170000
DTSTAMP:20260420T130704
CREATED:20210806T114237Z
LAST-MODIFIED:20210831T193238Z
UID:3138-1632038400-1632070800@zimnawoda.lukow.pl
SUMMARY:Ogólnopolskie Biegi im. ks. Stanisława Brzóski
DESCRIPTION:
URL:http://zimnawoda.lukow.pl/kalendarz/ogolnopolskie-biegi-im-ks-stanislawa-brzoski/
LOCATION:Zalew Zimna Woda
ATTACH;FMTTYPE=image/png:http://zimnawoda.lukow.pl/wp-content/uploads/2021/08/Brzoski21.png
END:VEVENT
BEGIN:VEVENT
DTSTART;TZID=Europe/Warsaw:20210918T130000
DTEND;TZID=Europe/Warsaw:20210918T170000
DTSTAMP:20260420T130704
CREATED:20210804T082130Z
LAST-MODIFIED:20210909T135140Z
UID:3129-1631970000-1631984400@zimnawoda.lukow.pl
SUMMARY:Bezpieczny Peleton
DESCRIPTION:
URL:http://zimnawoda.lukow.pl/kalendarz/bezpieczny-peleton-2/
ATTACH;FMTTYPE=image/jpeg:http://zimnawoda.lukow.pl/wp-content/uploads/2021/08/peleton21.jpg
END:VEVENT
BEGIN:VEVENT
DTSTART;TZID=Europe/Warsaw:20210912T060000
DTEND;TZID=Europe/Warsaw:20210912T143000
DTSTAMP:20260420T130704
CREATED:20210902T073850Z
LAST-MODIFIED:20210909T134058Z
UID:3225-1631426400-1631457000@zimnawoda.lukow.pl
SUMMARY:Zawody wędkarskie
DESCRIPTION:
URL:http://zimnawoda.lukow.pl/kalendarz/zawody-wedkarskie/
LOCATION:Zalew Zimna Woda
ATTACH;FMTTYPE=image/jpeg:http://zimnawoda.lukow.pl/wp-content/uploads/2021/09/wedka-rotated.jpg
END:VEVENT
BEGIN:VEVENT
DTSTART;TZID=Europe/Warsaw:20210911T150000
DTEND;TZID=Europe/Warsaw:20210911T190000
DTSTAMP:20260420T130704
CREATED:20210906T072707Z
LAST-MODIFIED:20210906T072707Z
UID:3229-1631372400-1631386800@zimnawoda.lukow.pl
SUMMARY:Piknik Country
DESCRIPTION:
URL:http://zimnawoda.lukow.pl/kalendarz/piknik-country/
LOCATION:Zalew Zimna Woda
ATTACH;FMTTYPE=image/jpeg:http://zimnawoda.lukow.pl/wp-content/uploads/2021/09/contry11.09.jpg
END:VEVENT
BEGIN:VEVENT
DTSTART;TZID=Europe/Warsaw:20210829T160000
DTEND;TZID=Europe/Warsaw:20210829T180000
DTSTAMP:20260420T130704
CREATED:20210827T121817Z
LAST-MODIFIED:20210827T121817Z
UID:3207-1630252800-1630260000@zimnawoda.lukow.pl
SUMMARY:Wakacyjny Kurs Tańca - 2 edycja
DESCRIPTION:
URL:http://zimnawoda.lukow.pl/kalendarz/wakacyjny-kurs-tanca-2-edycja/
LOCATION:Zalew Zimna Woda
ATTACH;FMTTYPE=image/png:http://zimnawoda.lukow.pl/wp-content/uploads/2021/08/jaroszynscy2.png
END:VEVENT
BEGIN:VEVENT
DTSTART;TZID=Europe/Warsaw:20210828T110000
DTEND;TZID=Europe/Warsaw:20210828T130000
DTSTAMP:20260420T130704
CREATED:20210827T131429Z
LAST-MODIFIED:20210827T131429Z
UID:3209-1630148400-1630155600@zimnawoda.lukow.pl
SUMMARY:Turniej koszykówki i konkurs rzutów
DESCRIPTION:
URL:http://zimnawoda.lukow.pl/kalendarz/turniej-koszykowki-i-konkurs-rzutow/
LOCATION:Zalew Zimna Woda
ATTACH;FMTTYPE=image/png:http://zimnawoda.lukow.pl/wp-content/uploads/2021/08/koszykowka.png
END:VEVENT
BEGIN:VEVENT
DTSTART;TZID=Europe/Warsaw:20210821T190000
DTEND;TZID=Europe/Warsaw:20210821T210000
DTSTAMP:20260420T130704
CREATED:20210805T075626Z
LAST-MODIFIED:20210824T103604Z
UID:3133-1629572400-1629579600@zimnawoda.lukow.pl
SUMMARY:CHILL Ł"OK
DESCRIPTION:
URL:http://zimnawoda.lukow.pl/kalendarz/chill-lok-3/
LOCATION:Zalew Zimna Woda
ATTACH;FMTTYPE=image/jpeg:http://zimnawoda.lukow.pl/wp-content/uploads/2021/08/21achill.jpg
END:VEVENT
BEGIN:VEVENT
DTSTART;TZID=Europe/Warsaw:20210821T090000
DTEND;TZID=Europe/Warsaw:20210821T140000
DTSTAMP:20260420T130704
CREATED:20210813T135457Z
LAST-MODIFIED:20210813T135457Z
UID:3156-1629536400-1629554400@zimnawoda.lukow.pl
SUMMARY:Turniej Siatkówki Plażowej
DESCRIPTION:
URL:http://zimnawoda.lukow.pl/kalendarz/turniej-siatkowki-plazowej-2/
LOCATION:Zalew Zimna Woda
ATTACH;FMTTYPE=image/png:http://zimnawoda.lukow.pl/wp-content/uploads/2021/08/siatkowa_z.png
END:VEVENT
BEGIN:VEVENT
DTSTART;TZID=Europe/Warsaw:20210814T150000
DTEND;TZID=Europe/Warsaw:20210814T170000
DTSTAMP:20260420T130704
CREATED:20210806T120325Z
LAST-MODIFIED:20210810T070308Z
UID:3146-1628953200-1628960400@zimnawoda.lukow.pl
SUMMARY:Wyścigi na kajakach i rowerach wodnych
DESCRIPTION:
URL:http://zimnawoda.lukow.pl/kalendarz/wyscigi-na-kajakach-i-rowerach-wodnych/
LOCATION:Zalew Zimna Woda
ATTACH;FMTTYPE=image/png:http://zimnawoda.lukow.pl/wp-content/uploads/2021/08/miniaturka.png
END:VEVENT
BEGIN:VEVENT
DTSTART;TZID=Europe/Warsaw:20210807T190000
DTEND;TZID=Europe/Warsaw:20210807T210000
DTSTAMP:20260420T130704
CREATED:20210712T165053Z
LAST-MODIFIED:20210805T072519Z
UID:2996-1628362800-1628370000@zimnawoda.lukow.pl
SUMMARY:CHILL Ł'OK
DESCRIPTION:
URL:http://zimnawoda.lukow.pl/kalendarz/chill-lok-2/
LOCATION:Zalew Zimna Woda
ATTACH;FMTTYPE=image/jpeg:http://zimnawoda.lukow.pl/wp-content/uploads/2021/07/chill1.jpg
END:VEVENT
BEGIN:VEVENT
DTSTART;TZID=Europe/Warsaw:20210807T160000
DTEND;TZID=Europe/Warsaw:20210807T180000
DTSTAMP:20260420T130704
CREATED:20210806T115605Z
LAST-MODIFIED:20210806T115605Z
UID:3143-1628352000-1628359200@zimnawoda.lukow.pl
SUMMARY:Sensoplastyka
DESCRIPTION:
URL:http://zimnawoda.lukow.pl/kalendarz/sensoplastyka/
LOCATION:Zalew Zimna Woda
END:VEVENT
BEGIN:VEVENT
DTSTART;TZID=Europe/Warsaw:20210801T160000
DTEND;TZID=Europe/Warsaw:20210801T190000
DTSTAMP:20260420T130704
CREATED:20210722T095652Z
LAST-MODIFIED:20210722T095652Z
UID:3095-1627833600-1627844400@zimnawoda.lukow.pl
SUMMARY:Wakacyjny kurs tańca
DESCRIPTION:
URL:http://zimnawoda.lukow.pl/kalendarz/wakacyjny-kurs-tanca/
LOCATION:Zalew Zimna Woda
ATTACH;FMTTYPE=image/jpeg:http://zimnawoda.lukow.pl/wp-content/uploads/2021/07/jaroszynscy.jpg
END:VEVENT
BEGIN:VEVENT
DTSTART;TZID=Europe/Warsaw:20210731T170000
DTEND;TZID=Europe/Warsaw:20210731T180000
DTSTAMP:20260420T130704
CREATED:20210722T105311Z
LAST-MODIFIED:20210722T105311Z
UID:3100-1627750800-1627754400@zimnawoda.lukow.pl
SUMMARY:Joga na plaży
DESCRIPTION:
URL:http://zimnawoda.lukow.pl/kalendarz/joga-na-plazy/
ATTACH;FMTTYPE=image/png:http://zimnawoda.lukow.pl/wp-content/uploads/2021/07/joga.png
END:VEVENT
BEGIN:VEVENT
DTSTART;TZID=Europe/Warsaw:20210731T150000
DTEND;TZID=Europe/Warsaw:20210731T180000
DTSTAMP:20260420T130704
CREATED:20210722T193820Z
LAST-MODIFIED:20210722T193820Z
UID:3118-1627743600-1627754400@zimnawoda.lukow.pl
SUMMARY:Zawody kajakarskie
DESCRIPTION:
URL:http://zimnawoda.lukow.pl/kalendarz/zawody-kajakarskie/
LOCATION:Zalew Zimna Woda
ATTACH;FMTTYPE=image/png:http://zimnawoda.lukow.pl/wp-content/uploads/2021/07/kajaki.png
END:VEVENT
BEGIN:VEVENT
DTSTART;TZID=Europe/Warsaw:20210731T110000
DTEND;TZID=Europe/Warsaw:20210731T150000
DTSTAMP:20260420T130704
CREATED:20210722T134913Z
LAST-MODIFIED:20210722T193440Z
UID:3111-1627729200-1627743600@zimnawoda.lukow.pl
SUMMARY:Turniej koszykówki oraz konkurs rzutów
DESCRIPTION:
URL:http://zimnawoda.lukow.pl/kalendarz/turniej-koszykowki-oraz-konkurs-rzutow/
LOCATION:Zalew Zimna Woda
ATTACH;FMTTYPE=image/png:http://zimnawoda.lukow.pl/wp-content/uploads/2021/07/koszykowka.png
END:VEVENT
BEGIN:VEVENT
DTSTART;TZID=Europe/Warsaw:20210724T190000
DTEND;TZID=Europe/Warsaw:20210724T210000
DTSTAMP:20260420T130704
CREATED:20210712T164913Z
LAST-MODIFIED:20210722T131214Z
UID:2994-1627153200-1627160400@zimnawoda.lukow.pl
SUMMARY:CHILL ' ŁOK
DESCRIPTION:
URL:http://zimnawoda.lukow.pl/kalendarz/chill-lok/
ATTACH;FMTTYPE=image/png:http://zimnawoda.lukow.pl/wp-content/uploads/2021/07/chill.png
END:VEVENT
BEGIN:VEVENT
DTSTART;TZID=Europe/Warsaw:20210718T070000
DTEND;TZID=Europe/Warsaw:20210718T150000
DTSTAMP:20260420T130704
CREATED:20210613T193520Z
LAST-MODIFIED:20210722T135353Z
UID:2559-1626591600-1626620400@zimnawoda.lukow.pl
SUMMARY:Triathlon w Zimnej Wodzie
DESCRIPTION:
URL:http://zimnawoda.lukow.pl/kalendarz/triathlon-w-zimnej-wodzie-2/
ATTACH;FMTTYPE=image/jpeg:http://zimnawoda.lukow.pl/wp-content/uploads/2021/06/triathlon.jpg
END:VEVENT
BEGIN:VEVENT
DTSTART;TZID=Europe/Warsaw:20210717T140000
DTEND;TZID=Europe/Warsaw:20210717T190000
DTSTAMP:20260420T130704
CREATED:20210613T193356Z
LAST-MODIFIED:20210722T135204Z
UID:2557-1626530400-1626548400@zimnawoda.lukow.pl
SUMMARY:Triathlon w Zimnej Wodzie
DESCRIPTION:
URL:http://zimnawoda.lukow.pl/kalendarz/triathlon-w-zimnej-wodzie/
ATTACH;FMTTYPE=image/jpeg:http://zimnawoda.lukow.pl/wp-content/uploads/2021/06/triathlon.jpg
END:VEVENT
BEGIN:VEVENT
DTSTART;TZID=Europe/Warsaw:20210717T130000
DTEND;TZID=Europe/Warsaw:20210717T160000
DTSTAMP:20260420T130704
CREATED:20210711T181604Z
LAST-MODIFIED:20210722T140229Z
UID:2979-1626526800-1626537600@zimnawoda.lukow.pl
SUMMARY:Animacje i warsztaty z zakresu robotyki\, cyfryzacji i programowania
DESCRIPTION:
URL:http://zimnawoda.lukow.pl/kalendarz/animacje-i-warsztaty-z-zakresu-robotyki-cyfryzacji-i-programowania/
ATTACH;FMTTYPE=image/jpeg:http://zimnawoda.lukow.pl/wp-content/uploads/2021/07/robotyka.jpg
END:VEVENT
BEGIN:VEVENT
DTSTART;TZID=Europe/Warsaw:20210710T090000
DTEND;TZID=Europe/Warsaw:20210710T150000
DTSTAMP:20260420T130704
CREATED:20210630T194955Z
LAST-MODIFIED:20210722T193325Z
UID:2857-1625907600-1625929200@zimnawoda.lukow.pl
SUMMARY:Turniej siatkówki plażowej
DESCRIPTION:
URL:http://zimnawoda.lukow.pl/kalendarz/turniej-siatkowki-plazowej/
ATTACH;FMTTYPE=image/jpeg:http://zimnawoda.lukow.pl/wp-content/uploads/2021/06/siatkowka.jpg
END:VEVENT
BEGIN:VEVENT
DTSTART;TZID=Europe/Warsaw:20210626T140000
DTEND;TZID=Europe/Warsaw:20210626T233000
DTSTAMP:20260420T130704
CREATED:20210613T132342Z
LAST-MODIFIED:20210722T193249Z
UID:2239-1624716000-1624750200@zimnawoda.lukow.pl
SUMMARY:Powitanie lata nad "Zimną Wodą"
DESCRIPTION:
URL:http://zimnawoda.lukow.pl/kalendarz/powitanie-lata-nad-zimna-woda/
LOCATION:Zalew Zimna Woda
ATTACH;FMTTYPE=image/png:http://zimnawoda.lukow.pl/wp-content/uploads/2021/06/powitanie_lata21.png
END:VEVENT
BEGIN:VEVENT
DTSTART;TZID=Europe/Warsaw:20210613T050000
DTEND;TZID=Europe/Warsaw:20210613T140000
DTSTAMP:20260420T130704
CREATED:20210613T120651Z
LAST-MODIFIED:20210722T193209Z
UID:2236-1623560400-1623592800@zimnawoda.lukow.pl
SUMMARY:Ogólnopolskie zawody wędkarskie dla osób niepełnosprawnych
DESCRIPTION:PZW Łuków Miasto w partnerstwie z Fundacją Wędkarze Bez Barier zaprasza 13 czerwca 2021 r. nad Zalew Zimna Woda na zawody „Puchar Niedźwiedzia – Ogólnopolskie zawody wędkarskie dla osób niepełnosprawnych”. \nProgram zawodów: \n5.00 – 5:30 zbiórka zawodników przy wiatach grillowych \n5.30 – 6:00 losowanie komputerowe stanowisk\, przedstawienie regulaminu \, wjazd na stanowiska \n8.00 -12:00  czas trwania zawodów \n12.00 Sygnał-koniec zawodów \n12:00-12.30 ważenie ryb\, zjazd z wałów \n13:00-13.30 obiad \n13.30-14:00 ogłoszenie wyników\, zakończenie zawodów
URL:http://zimnawoda.lukow.pl/kalendarz/ogolnopolskie-zawody-wedkarskie-dla-osob-niepelnosprawnych/
LOCATION:Zalew Zimna Woda
ATTACH;FMTTYPE=image/jpeg:http://zimnawoda.lukow.pl/wp-content/uploads/2021/06/wedkarskie.jpg
END:VEVENT
END:VCALENDAR