BEGIN:VCALENDAR
VERSION:2.0
PRODID:-//Zalew Zimna Woda Łuków - ECPv6.7.0//NONSGML v1.0//EN
CALSCALE:GREGORIAN
METHOD:PUBLISH
X-ORIGINAL-URL:http://zimnawoda.lukow.pl
X-WR-CALDESC:Events for Zalew Zimna Woda Łuków
REFRESH-INTERVAL;VALUE=DURATION:PT1H
X-Robots-Tag:noindex
X-PUBLISHED-TTL:PT1H
BEGIN:VTIMEZONE
TZID:Europe/Warsaw
BEGIN:DAYLIGHT
TZOFFSETFROM:+0100
TZOFFSETTO:+0200
TZNAME:CEST
DTSTART:20240331T010000
END:DAYLIGHT
BEGIN:STANDARD
TZOFFSETFROM:+0200
TZOFFSETTO:+0100
TZNAME:CET
DTSTART:20241027T010000
END:STANDARD
END:VTIMEZONE
BEGIN:VEVENT
DTSTART;TZID=Europe/Warsaw:20240921T100000
DTEND;TZID=Europe/Warsaw:20240921T170000
DTSTAMP:20260419T151421
CREATED:20240909T093242Z
LAST-MODIFIED:20240909T093242Z
UID:4416-1726912800-1726938000@zimnawoda.lukow.pl
SUMMARY:Bezpieczny Peleton 2024
DESCRIPTION:
URL:http://zimnawoda.lukow.pl/kalendarz/bezpieczny-peleton-2024/
LOCATION:Zalew Zimna Woda
ATTACH;FMTTYPE=image/jpeg:http://zimnawoda.lukow.pl/wp-content/uploads/2024/09/peleton1.jpg
END:VEVENT
BEGIN:VEVENT
DTSTART;TZID=Europe/Warsaw:20240921T170000
DTEND;TZID=Europe/Warsaw:20240921T190000
DTSTAMP:20260419T151421
CREATED:20240429T135120Z
LAST-MODIFIED:20240918T131632Z
UID:4150-1726938000-1726945200@zimnawoda.lukow.pl
SUMMARY:Wieczór stand-up/kabaret
DESCRIPTION:
URL:http://zimnawoda.lukow.pl/kalendarz/wieczor-stand-up-kabaret-3/
LOCATION:Zalew Zimna Woda
ATTACH;FMTTYPE=image/jpeg:http://zimnawoda.lukow.pl/wp-content/uploads/2024/04/stand24.jpg
END:VEVENT
END:VCALENDAR