BEGIN:VCALENDAR
VERSION:2.0
PRODID:-//Zalew Zimna Woda Łuków - ECPv6.7.0//NONSGML v1.0//EN
CALSCALE:GREGORIAN
METHOD:PUBLISH
X-ORIGINAL-URL:http://zimnawoda.lukow.pl
X-WR-CALDESC:Events for Zalew Zimna Woda Łuków
REFRESH-INTERVAL;VALUE=DURATION:PT1H
X-Robots-Tag:noindex
X-PUBLISHED-TTL:PT1H
BEGIN:VTIMEZONE
TZID:Europe/Warsaw
BEGIN:DAYLIGHT
TZOFFSETFROM:+0100
TZOFFSETTO:+0200
TZNAME:CEST
DTSTART:20240331T010000
END:DAYLIGHT
BEGIN:STANDARD
TZOFFSETFROM:+0200
TZOFFSETTO:+0100
TZNAME:CET
DTSTART:20241027T010000
END:STANDARD
END:VTIMEZONE
BEGIN:VEVENT
DTSTART;TZID=Europe/Warsaw:20240629T130000
DTEND;TZID=Europe/Warsaw:20240629T180000
DTSTAMP:20260419T170243
CREATED:20240528T105804Z
LAST-MODIFIED:20240626T113544Z
UID:4217-1719666000-1719684000@zimnawoda.lukow.pl
SUMMARY:Piknik spółdzielczy
DESCRIPTION:
URL:http://zimnawoda.lukow.pl/kalendarz/piknik-spoldzielczy/
ATTACH;FMTTYPE=image/jpeg:http://zimnawoda.lukow.pl/wp-content/uploads/2024/05/piknik_spoldzielczy.jpg
END:VEVENT
BEGIN:VEVENT
DTSTART;TZID=Europe/Warsaw:20240629T203000
DTEND;TZID=Europe/Warsaw:20240629T235900
DTSTAMP:20260419T170243
CREATED:20240429T135705Z
LAST-MODIFIED:20240607T115120Z
UID:4165-1719693000-1719705540@zimnawoda.lukow.pl
SUMMARY:Kino plenerowe
DESCRIPTION:
URL:http://zimnawoda.lukow.pl/kalendarz/kino-plenerowe-2/
LOCATION:Zalew Zimna Woda
ATTACH;FMTTYPE=image/jpeg:http://zimnawoda.lukow.pl/wp-content/uploads/2024/04/kino.jpg
END:VEVENT
END:VCALENDAR