BEGIN:VCALENDAR
VERSION:2.0
PRODID:-//Zalew Zimna Woda Łuków - ECPv6.7.0//NONSGML v1.0//EN
CALSCALE:GREGORIAN
METHOD:PUBLISH
X-ORIGINAL-URL:http://zimnawoda.lukow.pl
X-WR-CALDESC:Events for Zalew Zimna Woda Łuków
REFRESH-INTERVAL;VALUE=DURATION:PT1H
X-Robots-Tag:noindex
X-PUBLISHED-TTL:PT1H
BEGIN:VTIMEZONE
TZID:Europe/Warsaw
BEGIN:DAYLIGHT
TZOFFSETFROM:+0100
TZOFFSETTO:+0200
TZNAME:CEST
DTSTART:20240331T010000
END:DAYLIGHT
BEGIN:STANDARD
TZOFFSETFROM:+0200
TZOFFSETTO:+0100
TZNAME:CET
DTSTART:20241027T010000
END:STANDARD
END:VTIMEZONE
BEGIN:VEVENT
DTSTART;TZID=Europe/Warsaw:20240608T060000
DTEND;TZID=Europe/Warsaw:20240608T140000
DTSTAMP:20260419T170242
CREATED:20240304T131827Z
LAST-MODIFIED:20240530T124903Z
UID:4046-1717826400-1717855200@zimnawoda.lukow.pl
SUMMARY:Dzień Dziecka z wędką.
DESCRIPTION:
URL:http://zimnawoda.lukow.pl/kalendarz/dzien-dziecka-z-wedka/
LOCATION:Zalew Zimna Woda
ATTACH;FMTTYPE=image/jpeg:http://zimnawoda.lukow.pl/wp-content/uploads/2024/03/dzien_wedka24.jpg
END:VEVENT
BEGIN:VEVENT
DTSTART;TZID=Europe/Warsaw:20240608T100000
DTEND;TZID=Europe/Warsaw:20240608T200000
DTSTAMP:20260419T170242
CREATED:20240419T104443Z
LAST-MODIFIED:20240607T132844Z
UID:4092-1717840800-1717876800@zimnawoda.lukow.pl
SUMMARY:COOL WATER Cars Ivent
DESCRIPTION:
URL:http://zimnawoda.lukow.pl/kalendarz/cool-water-cars-ivent/
ATTACH;FMTTYPE=image/jpeg:http://zimnawoda.lukow.pl/wp-content/uploads/2024/04/samochody.jpg
END:VEVENT
END:VCALENDAR