BEGIN:VCALENDAR
VERSION:2.0
PRODID:-//Zalew Zimna Woda Łuków - ECPv6.7.0//NONSGML v1.0//EN
CALSCALE:GREGORIAN
METHOD:PUBLISH
X-ORIGINAL-URL:http://zimnawoda.lukow.pl
X-WR-CALDESC:Events for Zalew Zimna Woda Łuków
REFRESH-INTERVAL;VALUE=DURATION:PT1H
X-Robots-Tag:noindex
X-PUBLISHED-TTL:PT1H
BEGIN:VTIMEZONE
TZID:Europe/Warsaw
BEGIN:DAYLIGHT
TZOFFSETFROM:+0100
TZOFFSETTO:+0200
TZNAME:CEST
DTSTART:20240331T010000
END:DAYLIGHT
BEGIN:STANDARD
TZOFFSETFROM:+0200
TZOFFSETTO:+0100
TZNAME:CET
DTSTART:20241027T010000
END:STANDARD
END:VTIMEZONE
BEGIN:VEVENT
DTSTART;TZID=Europe/Warsaw:20240407T060000
DTEND;TZID=Europe/Warsaw:20240407T170000
DTSTAMP:20260419T204501
CREATED:20240304T131239Z
LAST-MODIFIED:20240304T131239Z
UID:4042-1712469600-1712509200@zimnawoda.lukow.pl
SUMMARY:Spławikowe Mistrzostwa Koła PZW Łuków Miasto. Otwarcie sezonu 2024.
DESCRIPTION:
URL:http://zimnawoda.lukow.pl/kalendarz/splawikowe-mistrzostwa-kola-pzw-lukow-miasto-otwarcie-sezonu-2024/
LOCATION:Zalew Zimna Woda
END:VEVENT
END:VCALENDAR