BEGIN:VCALENDAR
VERSION:2.0
PRODID:-//Zalew Zimna Woda Łuków - ECPv6.7.0//NONSGML v1.0//EN
CALSCALE:GREGORIAN
METHOD:PUBLISH
X-ORIGINAL-URL:http://zimnawoda.lukow.pl
X-WR-CALDESC:Events for Zalew Zimna Woda Łuków
REFRESH-INTERVAL;VALUE=DURATION:PT1H
X-Robots-Tag:noindex
X-PUBLISHED-TTL:PT1H
BEGIN:VTIMEZONE
TZID:Europe/Warsaw
BEGIN:DAYLIGHT
TZOFFSETFROM:+0100
TZOFFSETTO:+0200
TZNAME:CEST
DTSTART:20230326T010000
END:DAYLIGHT
BEGIN:STANDARD
TZOFFSETFROM:+0200
TZOFFSETTO:+0100
TZNAME:CET
DTSTART:20231029T010000
END:STANDARD
END:VTIMEZONE
BEGIN:VEVENT
DTSTART;TZID=Europe/Warsaw:20230909T060000
DTEND;TZID=Europe/Warsaw:20230910T090000
DTSTAMP:20260420T092756
CREATED:20230215T072502Z
LAST-MODIFIED:20230215T072502Z
UID:3769-1694239200-1694336400@zimnawoda.lukow.pl
SUMMARY:24 h Gruntowe zawody wędkarskie
DESCRIPTION:
URL:http://zimnawoda.lukow.pl/kalendarz/24-h-gruntowe-zawody-wedkarskie/
LOCATION:Zalew Zimna Woda
END:VEVENT
END:VCALENDAR