BEGIN:VCALENDAR
VERSION:2.0
PRODID:-//Zalew Zimna Woda Łuków - ECPv6.7.0//NONSGML v1.0//EN
CALSCALE:GREGORIAN
METHOD:PUBLISH
X-ORIGINAL-URL:http://zimnawoda.lukow.pl
X-WR-CALDESC:Events for Zalew Zimna Woda Łuków
REFRESH-INTERVAL;VALUE=DURATION:PT1H
X-Robots-Tag:noindex
X-PUBLISHED-TTL:PT1H
BEGIN:VTIMEZONE
TZID:Europe/Warsaw
BEGIN:DAYLIGHT
TZOFFSETFROM:+0100
TZOFFSETTO:+0200
TZNAME:CEST
DTSTART:20230326T010000
END:DAYLIGHT
BEGIN:STANDARD
TZOFFSETFROM:+0200
TZOFFSETTO:+0100
TZNAME:CET
DTSTART:20231029T010000
END:STANDARD
END:VTIMEZONE
BEGIN:VEVENT
DTSTART;TZID=Europe/Warsaw:20230819T090000
DTEND;TZID=Europe/Warsaw:20230819T170000
DTSTAMP:20260420T111949
CREATED:20230726T140155Z
LAST-MODIFIED:20230726T140155Z
UID:3944-1692435600-1692464400@zimnawoda.lukow.pl
SUMMARY:2- dniowy TURNIEJ SIATKÓWKI PLAŻOWEJ
DESCRIPTION:
URL:http://zimnawoda.lukow.pl/kalendarz/2-dniowy-turniej-siatkowki-plazowej/
LOCATION:Zalew Zimna Woda
ATTACH;FMTTYPE=image/png:http://zimnawoda.lukow.pl/wp-content/uploads/2023/07/siatkowka_sierpien.png
END:VEVENT
END:VCALENDAR