BEGIN:VCALENDAR
VERSION:2.0
PRODID:-//Zalew Zimna Woda Łuków - ECPv6.7.0//NONSGML v1.0//EN
CALSCALE:GREGORIAN
METHOD:PUBLISH
X-WR-CALNAME:Zalew Zimna Woda Łuków
X-ORIGINAL-URL:http://zimnawoda.lukow.pl
X-WR-CALDESC:Events for Zalew Zimna Woda Łuków
REFRESH-INTERVAL;VALUE=DURATION:PT1H
X-Robots-Tag:noindex
X-PUBLISHED-TTL:PT1H
BEGIN:VTIMEZONE
TZID:Europe/Warsaw
BEGIN:DAYLIGHT
TZOFFSETFROM:+0100
TZOFFSETTO:+0200
TZNAME:CEST
DTSTART:20230326T010000
END:DAYLIGHT
BEGIN:STANDARD
TZOFFSETFROM:+0200
TZOFFSETTO:+0100
TZNAME:CET
DTSTART:20231029T010000
END:STANDARD
END:VTIMEZONE
BEGIN:VEVENT
DTSTART;TZID=Europe/Warsaw:20230701T090000
DTEND;TZID=Europe/Warsaw:20230701T150000
DTSTAMP:20260420T132137
CREATED:20230625T120206Z
LAST-MODIFIED:20230625T120206Z
UID:3887-1688202000-1688223600@zimnawoda.lukow.pl
SUMMARY:Turniej Piłki Siatkowej
DESCRIPTION:
URL:http://zimnawoda.lukow.pl/kalendarz/turniej-pilki-siatkowej/
LOCATION:Zalew Zimna Woda
ATTACH;FMTTYPE=image/png:http://zimnawoda.lukow.pl/wp-content/uploads/2023/06/siatkowa23.png
END:VEVENT
END:VCALENDAR